Package: findIPs Version: 1.3.1 Command: E:\biocbuild\bbs-3.21-bioc\R\bin\R.exe CMD check --no-multiarch --install=check:findIPs.install-out.txt --library=E:\biocbuild\bbs-3.21-bioc\R\library --no-vignettes --timings findIPs_1.3.1.tar.gz StartedAt: 2025-02-21 01:22:43 -0500 (Fri, 21 Feb 2025) EndedAt: 2025-02-21 01:30:33 -0500 (Fri, 21 Feb 2025) EllapsedTime: 470.5 seconds RetCode: 0 Status: OK CheckDir: findIPs.Rcheck Warnings: 0