Package: findIPs Version: 1.3.1 Command: chmod a+r findIPs -R && E:\biocbuild\bbs-3.21-bioc\R\bin\R.exe CMD build --keep-empty-dirs --no-resave-data findIPs StartedAt: 2025-02-20 18:46:18 -0500 (Thu, 20 Feb 2025) EndedAt: 2025-02-20 18:51:54 -0500 (Thu, 20 Feb 2025) EllapsedTime: 335.9 seconds RetCode: 0 Status: OK PackageFile: findIPs_1.3.1.tar.gz PackageFileSize: 2.188 MiB