Package: findIPs Version: 1.3.1 Command: rm -rf findIPs.buildbin-libdir && mkdir findIPs.buildbin-libdir && E:\biocbuild\bbs-3.21-bioc\R\bin\R.exe CMD INSTALL --build --library=findIPs.buildbin-libdir findIPs_1.3.1.tar.gz StartedAt: 2025-02-21 08:06:14 -0500 (Fri, 21 Feb 2025) EndedAt: 2025-02-21 08:06:41 -0500 (Fri, 21 Feb 2025) EllapsedTime: 27.0 seconds RetCode: 0 Status: OK PackageFile: findIPs_1.3.1.zip PackageFileSize: 2.036 MiB