Package: findIPs Version: 1.3.1 Command: /Library/Frameworks/R.framework/Resources/bin/R CMD build --keep-empty-dirs --no-resave-data findIPs StartedAt: 2025-02-20 16:20:40 -0500 (Thu, 20 Feb 2025) EndedAt: 2025-02-20 16:22:11 -0500 (Thu, 20 Feb 2025) EllapsedTime: 91.0 seconds RetCode: 0 Status: OK PackageFile: findIPs_1.3.1.tar.gz PackageFileSize: 2.293 MiB