Package: fgsea Version: 1.33.2 Command: /home/biocbuild/bbs-3.21-bioc/R/bin/R CMD INSTALL fgsea StartedAt: 2025-02-19 15:08:51 -0500 (Wed, 19 Feb 2025) EndedAt: 2025-02-19 15:09:26 -0500 (Wed, 19 Feb 2025) EllapsedTime: 34.9 seconds RetCode: 0 Status: OK