Package: fgsea Version: 1.33.2 Command: /home/biocbuild/bbs-3.21-bioc/R/bin/R CMD build --keep-empty-dirs --no-resave-data fgsea StartedAt: 2025-02-19 17:14:43 -0500 (Wed, 19 Feb 2025) EndedAt: 2025-02-19 17:20:36 -0500 (Wed, 19 Feb 2025) EllapsedTime: 352.6 seconds RetCode: 0 Status: OK PackageFile: fgsea_1.33.2.tar.gz PackageFileSize: 4.748 MiB