Package: fgsea Version: 1.33.2 Command: /Library/Frameworks/R.framework/Resources/bin/R CMD INSTALL fgsea StartedAt: 2025-02-20 15:30:23 -0500 (Thu, 20 Feb 2025) EndedAt: 2025-02-20 15:31:04 -0500 (Thu, 20 Feb 2025) EllapsedTime: 40.6 seconds RetCode: 0 Status: OK