Package: fgsea Version: 1.33.2 Command: /Library/Frameworks/R.framework/Resources/bin/R CMD build --keep-empty-dirs --no-resave-data fgsea StartedAt: 2025-02-20 16:41:44 -0500 (Thu, 20 Feb 2025) EndedAt: 2025-02-20 16:47:38 -0500 (Thu, 20 Feb 2025) EllapsedTime: 354.0 seconds RetCode: 0 Status: OK PackageFile: fgsea_1.33.2.tar.gz PackageFileSize: 5.403 MiB