Package: fgga Version: 1.15.0 Command: /Library/Frameworks/R.framework/Resources/bin/R CMD check --install=check:fgga.install-out.txt --library=/Library/Frameworks/R.framework/Resources/library --no-vignettes --timings fgga_1.15.0.tar.gz StartedAt: 2025-02-19 20:26:52 -0500 (Wed, 19 Feb 2025) EndedAt: 2025-02-19 20:28:54 -0500 (Wed, 19 Feb 2025) EllapsedTime: 122.2 seconds RetCode: 0 Status: OK CheckDir: fgga.Rcheck Warnings: 0