Package: fgga Version: 1.15.0 Command: rm -rf fgga.buildbin-libdir && mkdir fgga.buildbin-libdir && /Users/biocbuild/BBS/utils/build-universal.sh fgga_1.15.0.tar.gz /Library/Frameworks/R.framework/Resources/bin/R fgga.buildbin-libdir StartedAt: 2025-02-20 00:32:07 -0500 (Thu, 20 Feb 2025) EndedAt: 2025-02-20 00:32:24 -0500 (Thu, 20 Feb 2025) EllapsedTime: 17.3 seconds RetCode: 0 Status: OK PackageFile: fgga_1.15.0.tgz PackageFileSize: 1.368 MiB