Package: ffpe Version: 1.51.0 Command: rm -rf ffpe.buildbin-libdir && mkdir ffpe.buildbin-libdir && E:\biocbuild\bbs-3.21-bioc\R\bin\R.exe CMD INSTALL --build --library=ffpe.buildbin-libdir ffpe_1.51.0.tar.gz StartedAt: 2025-02-18 07:20:52 -0500 (Tue, 18 Feb 2025) EndedAt: 2025-02-18 07:21:48 -0500 (Tue, 18 Feb 2025) EllapsedTime: 55.4 seconds RetCode: 0 Status: OK PackageFile: ffpe_1.51.0.zip PackageFileSize: 198.5 KiB