Package: ffpe Version: 1.51.0 Command: /home/biocbuild/bbs-3.21-bioc/R/bin/R CMD INSTALL ffpe StartedAt: 2025-02-19 15:59:09 -0500 (Wed, 19 Feb 2025) EndedAt: 2025-02-19 15:59:53 -0500 (Wed, 19 Feb 2025) EllapsedTime: 44.4 seconds RetCode: 0 Status: OK