Package: fenr Version: 1.5.2 Command: /home/biocbuild/bbs-3.21-bioc/R/bin/R CMD check --install=check:fenr.install-out.txt --library=/home/biocbuild/bbs-3.21-bioc/R/site-library --timings fenr_1.5.2.tar.gz StartedAt: 2025-02-20 22:00:35 -0500 (Thu, 20 Feb 2025) EndedAt: 2025-02-20 22:03:50 -0500 (Thu, 20 Feb 2025) EllapsedTime: 194.3 seconds RetCode: 0 Status: OK CheckDir: fenr.Rcheck Warnings: 0