Package: fenr Version: 1.5.2 Command: /home/biocbuild/bbs-3.21-bioc/R/bin/R CMD build --keep-empty-dirs --no-resave-data fenr StartedAt: 2025-02-20 17:27:16 -0500 (Thu, 20 Feb 2025) EndedAt: 2025-02-20 17:27:42 -0500 (Thu, 20 Feb 2025) EllapsedTime: 25.1 seconds RetCode: 0 Status: OK PackageFile: fenr_1.5.2.tar.gz PackageFileSize: 1.997 MiB