Package: fenr Version: 1.5.2 Command: /Library/Frameworks/R.framework/Resources/bin/R CMD check --install=check:fenr.install-out.txt --library=/Library/Frameworks/R.framework/Resources/library --no-vignettes --timings fenr_1.5.2.tar.gz StartedAt: 2025-02-20 20:26:20 -0500 (Thu, 20 Feb 2025) EndedAt: 2025-02-20 20:29:28 -0500 (Thu, 20 Feb 2025) EllapsedTime: 187.7 seconds RetCode: 0 Status: OK CheckDir: fenr.Rcheck Warnings: 0