Package: fenr Version: 1.5.2 Command: /Library/Frameworks/R.framework/Resources/bin/R CMD build --keep-empty-dirs --no-resave-data fenr StartedAt: 2025-02-20 16:41:03 -0500 (Thu, 20 Feb 2025) EndedAt: 2025-02-20 16:41:48 -0500 (Thu, 20 Feb 2025) EllapsedTime: 45.3 seconds RetCode: 0 Status: OK PackageFile: fenr_1.5.2.tar.gz PackageFileSize: 1.996 MiB