Package: fenr Version: 1.5.1 Command: /home/biocbuild/R/R/bin/R CMD build --keep-empty-dirs --no-resave-data fenr StartedAt: 2025-01-28 22:53:18 -0000 (Tue, 28 Jan 2025) EndedAt: 2025-01-28 22:53:54 -0000 (Tue, 28 Jan 2025) EllapsedTime: 36.0 seconds RetCode: 0 Status: OK PackageFile: fenr_1.5.1.tar.gz PackageFileSize: 1.991 MiB