Package: fenr Version: 1.5.2 Command: /Library/Frameworks/R.framework/Resources/bin/R CMD INSTALL fenr StartedAt: 2025-02-20 15:15:23 -0500 (Thu, 20 Feb 2025) EndedAt: 2025-02-20 15:15:25 -0500 (Thu, 20 Feb 2025) EllapsedTime: 2.3 seconds RetCode: 0 Status: OK