Package: fedup Version: 1.15.0 Command: E:\biocbuild\bbs-3.21-bioc\R\bin\R.exe CMD INSTALL fedup StartedAt: 2025-02-20 16:54:07 -0500 (Thu, 20 Feb 2025) EndedAt: 2025-02-20 16:54:25 -0500 (Thu, 20 Feb 2025) EllapsedTime: 17.7 seconds RetCode: 0 Status: OK