Package: fedup Version: 1.15.0 Command: chmod a+r fedup -R && E:\biocbuild\bbs-3.21-bioc\R\bin\R.exe CMD build --keep-empty-dirs --no-resave-data fedup StartedAt: 2025-02-20 18:45:22 -0500 (Thu, 20 Feb 2025) EndedAt: 2025-02-20 18:47:30 -0500 (Thu, 20 Feb 2025) EllapsedTime: 127.8 seconds RetCode: 0 Status: OK PackageFile: fedup_1.15.0.tar.gz PackageFileSize: 3.479 MiB