Package: fedup Version: 1.15.0 Command: /Library/Frameworks/R.framework/Resources/bin/R CMD build --keep-empty-dirs --no-resave-data fedup StartedAt: 2025-02-20 16:40:59 -0500 (Thu, 20 Feb 2025) EndedAt: 2025-02-20 16:42:47 -0500 (Thu, 20 Feb 2025) EllapsedTime: 108.4 seconds RetCode: 0 Status: OK PackageFile: fedup_1.15.0.tar.gz PackageFileSize: 4.703 MiB