Package: fdrame Version: 1.79.0 Command: /home/biocbuild/bbs-3.21-bioc/R/bin/R CMD check --install=check:fdrame.install-out.txt --library=/home/biocbuild/bbs-3.21-bioc/R/site-library --timings fdrame_1.79.0.tar.gz StartedAt: 2025-02-19 22:13:19 -0500 (Wed, 19 Feb 2025) EndedAt: 2025-02-19 22:13:40 -0500 (Wed, 19 Feb 2025) EllapsedTime: 21.0 seconds RetCode: 0 Status: OK CheckDir: fdrame.Rcheck Warnings: 0