Package: fdrame Version: 1.79.0 Command: /home/biocbuild/bbs-3.21-bioc/R/bin/R CMD build --keep-empty-dirs --no-resave-data fdrame StartedAt: 2025-02-19 17:13:45 -0500 (Wed, 19 Feb 2025) EndedAt: 2025-02-19 17:13:56 -0500 (Wed, 19 Feb 2025) EllapsedTime: 11.0 seconds RetCode: 0 Status: OK PackageFile: fdrame_1.79.0.tar.gz PackageFileSize: 972.6 KiB