Package: fdrame Version: 1.80.0 Command: /home/biocbuild/R/R/bin/R CMD build --keep-empty-dirs --no-resave-data fdrame StartedAt: 2025-10-14 00:50:57 -0000 (Tue, 14 Oct 2025) EndedAt: 2025-10-14 00:51:03 -0000 (Tue, 14 Oct 2025) EllapsedTime: 6.0 seconds RetCode: 0 Status: OK PackageFile: fdrame_1.80.0.tar.gz PackageFileSize: 962.7 KiB