Package: fcScan Version: 1.21.0 Command: chmod a+r fcScan -R && E:\biocbuild\bbs-3.21-bioc\R\bin\R.exe CMD build --keep-empty-dirs --no-resave-data fcScan StartedAt: 2025-02-18 18:39:31 -0500 (Tue, 18 Feb 2025) EndedAt: 2025-02-18 18:41:08 -0500 (Tue, 18 Feb 2025) EllapsedTime: 97.0 seconds RetCode: 0 Status: OK PackageFile: fcScan_1.21.0.tar.gz PackageFileSize: 241.9 KiB