Package: fcScan Version: 1.21.0 Command: /Library/Frameworks/R.framework/Resources/bin/R CMD check --install=check:fcScan.install-out.txt --library=/Library/Frameworks/R.framework/Resources/library --no-vignettes --timings fcScan_1.21.0.tar.gz StartedAt: 2025-02-18 20:20:21 -0500 (Tue, 18 Feb 2025) EndedAt: 2025-02-18 20:25:12 -0500 (Tue, 18 Feb 2025) EllapsedTime: 291.0 seconds RetCode: 0 Status: OK CheckDir: fcScan.Rcheck Warnings: 0