Package: fcScan Version: 1.21.0 Command: rm -rf fcScan.buildbin-libdir && mkdir fcScan.buildbin-libdir && /Users/biocbuild/BBS/utils/build-universal.sh fcScan_1.21.0.tar.gz /Library/Frameworks/R.framework/Resources/bin/R fcScan.buildbin-libdir StartedAt: 2025-02-19 00:24:55 -0500 (Wed, 19 Feb 2025) EndedAt: 2025-02-19 00:25:47 -0500 (Wed, 19 Feb 2025) EllapsedTime: 52.3 seconds RetCode: 0 Status: OK PackageFile: fcScan_1.21.0.tgz PackageFileSize: 271.9 KiB