Package: fastseg Version: 1.53.3 Command: /home/biocbuild/bbs-3.21-bioc/R/bin/R CMD check --install=check:fastseg.install-out.txt --library=/home/biocbuild/bbs-3.21-bioc/R/site-library --timings fastseg_1.53.3.tar.gz StartedAt: 2025-02-20 21:59:24 -0500 (Thu, 20 Feb 2025) EndedAt: 2025-02-20 22:00:52 -0500 (Thu, 20 Feb 2025) EllapsedTime: 88.1 seconds RetCode: 0 Status: OK CheckDir: fastseg.Rcheck Warnings: 0