Package: fastseg Version: 1.53.3 Command: /home/biocbuild/bbs-3.21-bioc/R/bin/R CMD build --keep-empty-dirs --no-resave-data fastseg StartedAt: 2025-02-20 17:26:24 -0500 (Thu, 20 Feb 2025) EndedAt: 2025-02-20 17:26:59 -0500 (Thu, 20 Feb 2025) EllapsedTime: 35.1 seconds RetCode: 0 Status: OK PackageFile: fastseg_1.53.3.tar.gz PackageFileSize: 718.8 KiB