Package: fastseg Version: 1.53.3 Command: /Library/Frameworks/R.framework/Resources/bin/R CMD check --install=check:fastseg.install-out.txt --library=/Library/Frameworks/R.framework/Resources/library --no-vignettes --timings fastseg_1.53.3.tar.gz StartedAt: 2025-02-20 19:15:23 -0500 (Thu, 20 Feb 2025) EndedAt: 2025-02-20 19:15:56 -0500 (Thu, 20 Feb 2025) EllapsedTime: 32.4 seconds RetCode: 0 Status: OK CheckDir: fastseg.Rcheck Warnings: 0