Package: fastreeR Version: 1.11.0 Command: rm -rf fastreeR.buildbin-libdir && mkdir fastreeR.buildbin-libdir && E:\biocbuild\bbs-3.21-bioc\R\bin\R.exe CMD INSTALL --build --library=fastreeR.buildbin-libdir fastreeR_1.11.0.tar.gz StartedAt: 2025-02-21 08:05:31 -0500 (Fri, 21 Feb 2025) EndedAt: 2025-02-21 08:05:42 -0500 (Fri, 21 Feb 2025) EllapsedTime: 10.7 seconds RetCode: 0 Status: OK PackageFile: fastreeR_1.11.0.zip PackageFileSize: 1.998 MiB