Package: fastreeR Version: 1.11.0 Command: /home/biocbuild/bbs-3.21-bioc/R/bin/R CMD build --keep-empty-dirs --no-resave-data fastreeR StartedAt: 2025-02-20 17:26:17 -0500 (Thu, 20 Feb 2025) EndedAt: 2025-02-20 17:27:19 -0500 (Thu, 20 Feb 2025) EllapsedTime: 61.1 seconds RetCode: 0 Status: OK PackageFile: fastreeR_1.11.0.tar.gz PackageFileSize: 2.388 MiB