Package: fastreeR Version: 1.11.0 Command: rm -rf fastreeR.buildbin-libdir && mkdir fastreeR.buildbin-libdir && /Users/biocbuild/BBS/utils/build-universal.sh fastreeR_1.11.0.tar.gz /Library/Frameworks/R.framework/Resources/bin/R fastreeR.buildbin-libdir StartedAt: 2025-02-21 00:30:41 -0500 (Fri, 21 Feb 2025) EndedAt: 2025-02-21 00:30:47 -0500 (Fri, 21 Feb 2025) EllapsedTime: 5.9 seconds RetCode: 0 Status: OK PackageFile: fastreeR_1.11.0.tgz PackageFileSize: 2.106 MiB