Package: fastreeR Version: 1.11.0 Command: /home/biocbuild/R/R/bin/R CMD check --install=check:fastreeR.install-out.txt --library=/home/biocbuild/R/R/site-library --no-vignettes --timings fastreeR_1.11.0.tar.gz StartedAt: 2025-01-28 10:34:06 -0000 (Tue, 28 Jan 2025) EndedAt: 2025-01-28 10:34:51 -0000 (Tue, 28 Jan 2025) EllapsedTime: 45.0 seconds RetCode: 0 Status: OK CheckDir: fastreeR.Rcheck Warnings: 0