Package: fastreeR Version: 1.11.0 Command: /Library/Frameworks/R.framework/Resources/bin/R CMD check --install=check:fastreeR.install-out.txt --library=/Library/Frameworks/R.framework/Resources/library --no-vignettes --timings fastreeR_1.11.0.tar.gz StartedAt: 2025-02-20 19:15:19 -0500 (Thu, 20 Feb 2025) EndedAt: 2025-02-20 19:15:37 -0500 (Thu, 20 Feb 2025) EllapsedTime: 18.2 seconds RetCode: 0 Status: OK CheckDir: fastreeR.Rcheck Warnings: 0