Package: fastLiquidAssociation Version: 1.43.0 Command: /Library/Frameworks/R.framework/Resources/bin/R CMD build --keep-empty-dirs --no-resave-data fastLiquidAssociation StartedAt: 2025-02-20 16:40:34 -0500 (Thu, 20 Feb 2025) EndedAt: 2025-02-20 16:41:58 -0500 (Thu, 20 Feb 2025) EllapsedTime: 84.3 seconds RetCode: 0 Status: OK PackageFile: fastLiquidAssociation_1.43.0.tar.gz PackageFileSize: 749.7 KiB