Package: famat Version: 1.17.0 Command: /home/biocbuild/bbs-3.21-bioc/R/bin/R CMD INSTALL famat StartedAt: 2025-02-20 16:01:30 -0500 (Thu, 20 Feb 2025) EndedAt: 2025-02-20 16:02:12 -0500 (Thu, 20 Feb 2025) EllapsedTime: 42.0 seconds RetCode: 0 Status: OK