Package: famat Version: 1.17.0 Command: /Library/Frameworks/R.framework/Resources/bin/R CMD check --install=check:famat.install-out.txt --library=/Library/Frameworks/R.framework/Resources/library --no-vignettes --timings famat_1.17.0.tar.gz StartedAt: 2025-02-20 20:24:43 -0500 (Thu, 20 Feb 2025) EndedAt: 2025-02-20 20:31:35 -0500 (Thu, 20 Feb 2025) EllapsedTime: 412.1 seconds RetCode: 0 Status: OK CheckDir: famat.Rcheck Warnings: 0