Package: famat Version: 1.17.0 Command: rm -rf famat.buildbin-libdir && mkdir famat.buildbin-libdir && /Users/biocbuild/BBS/utils/build-universal.sh famat_1.17.0.tar.gz /Library/Frameworks/R.framework/Resources/bin/R famat.buildbin-libdir StartedAt: 2025-02-21 00:30:39 -0500 (Fri, 21 Feb 2025) EndedAt: 2025-02-21 00:31:49 -0500 (Fri, 21 Feb 2025) EllapsedTime: 70.0 seconds RetCode: 0 Status: OK PackageFile: famat_1.17.0.tgz PackageFileSize: 3.642 MiB