Package: famat Version: 1.17.0 Command: /Library/Frameworks/R.framework/Resources/bin/R CMD build --keep-empty-dirs --no-resave-data famat StartedAt: 2025-02-20 16:19:33 -0500 (Thu, 20 Feb 2025) EndedAt: 2025-02-20 16:20:42 -0500 (Thu, 20 Feb 2025) EllapsedTime: 69.7 seconds RetCode: 0 Status: OK PackageFile: famat_1.17.0.tar.gz PackageFileSize: 3.919 MiB