Package: famat Version: 1.17.0 Command: rm -rf famat.buildbin-libdir && mkdir famat.buildbin-libdir && /Users/biocbuild/BBS/utils/build-universal.sh famat_1.17.0.tar.gz /Library/Frameworks/R.framework/Resources/bin/R famat.buildbin-libdir StartedAt: 2025-02-20 22:18:46 -0500 (Thu, 20 Feb 2025) EndedAt: 2025-02-20 22:19:09 -0500 (Thu, 20 Feb 2025) EllapsedTime: 22.6 seconds RetCode: 0 Status: OK PackageFile: famat_1.17.0.tgz PackageFileSize: 3.643 MiB