Package: faers Version: 1.3.0 Command: /Library/Frameworks/R.framework/Resources/bin/R CMD INSTALL faers StartedAt: 2025-02-19 15:38:51 -0500 (Wed, 19 Feb 2025) EndedAt: 2025-02-19 15:38:58 -0500 (Wed, 19 Feb 2025) EllapsedTime: 7.3 seconds RetCode: 0 Status: OK