Package: factR Version: 1.9.0 Command: E:\biocbuild\bbs-3.21-bioc\R\bin\R.exe CMD INSTALL factR StartedAt: 2025-02-20 16:18:38 -0500 (Thu, 20 Feb 2025) EndedAt: 2025-02-20 16:18:58 -0500 (Thu, 20 Feb 2025) EllapsedTime: 19.1 seconds RetCode: 0 Status: OK