Package: factR Version: 1.9.0 Command: /Library/Frameworks/R.framework/Resources/bin/R CMD INSTALL factR StartedAt: 2025-02-20 15:09:17 -0500 (Thu, 20 Feb 2025) EndedAt: 2025-02-20 15:09:21 -0500 (Thu, 20 Feb 2025) EllapsedTime: 4.2 seconds RetCode: 0 Status: OK