Package: factDesign Version: 1.83.0 Command: E:\biocbuild\bbs-3.21-bioc\R\bin\R.exe CMD INSTALL factDesign StartedAt: 2025-02-19 15:27:36 -0500 (Wed, 19 Feb 2025) EndedAt: 2025-02-19 15:27:44 -0500 (Wed, 19 Feb 2025) EllapsedTime: 8.5 seconds RetCode: 0 Status: OK