Package: factDesign Version: 1.83.0 Command: /home/biocbuild/bbs-3.21-bioc/R/bin/R CMD INSTALL factDesign StartedAt: 2025-02-19 15:12:49 -0500 (Wed, 19 Feb 2025) EndedAt: 2025-02-19 15:12:53 -0500 (Wed, 19 Feb 2025) EllapsedTime: 3.5 seconds RetCode: 0 Status: OK