Package: factDesign Version: 1.83.0 Command: /home/biocbuild/bbs-3.21-bioc/R/bin/R CMD build --keep-empty-dirs --no-resave-data factDesign StartedAt: 2025-02-19 17:13:05 -0500 (Wed, 19 Feb 2025) EndedAt: 2025-02-19 17:13:14 -0500 (Wed, 19 Feb 2025) EllapsedTime: 9.0 seconds RetCode: 0 Status: OK PackageFile: factDesign_1.83.0.tar.gz PackageFileSize: 217 KiB