Package: fabia Version: 2.53.0 Command: /Library/Frameworks/R.framework/Resources/bin/R CMD INSTALL fabia StartedAt: 2025-02-18 15:04:51 -0500 (Tue, 18 Feb 2025) EndedAt: 2025-02-18 15:05:25 -0500 (Tue, 18 Feb 2025) EllapsedTime: 34.5 seconds RetCode: 0 Status: OK