Package: fabia Version: 2.53.0 Command: /Library/Frameworks/R.framework/Resources/bin/R CMD build --keep-empty-dirs --no-resave-data fabia StartedAt: 2025-02-18 16:39:10 -0500 (Tue, 18 Feb 2025) EndedAt: 2025-02-18 16:39:34 -0500 (Tue, 18 Feb 2025) EllapsedTime: 24.1 seconds RetCode: 0 Status: OK PackageFile: fabia_2.53.0.tar.gz PackageFileSize: 801.5 KiB