Package: fCI Version: 1.37.0 Command: E:\biocbuild\bbs-3.21-bioc\R\bin\R.exe CMD INSTALL fCI StartedAt: 2025-02-20 15:33:20 -0500 (Thu, 20 Feb 2025) EndedAt: 2025-02-20 15:33:46 -0500 (Thu, 20 Feb 2025) EllapsedTime: 26.5 seconds RetCode: 0 Status: OK